BEGIN:VCALENDAR
VERSION:2.0
PRODID:-//Intand Corporation//Tandem//EN
METHOD:PUBLISH
BEGIN:VEVENT
DTSTAMP:20260425T020917Z
DTSTART:20260423T202000Z
DTEND:20260423T214500Z
TRANSP:TRANSPARENT
PRIORITY:0
SUMMARY:Mena/Aspira May Day Teach-in 
LOCATION:LIBRARY - CLASSROOM 3315H (N/A 7:50am-3:20pm M-F - Use LibCal Sch)
DESCRIPTION:Schools:\nOAK PARK and RIVER FOREST\n\nLocation:\nLIBRARY - CL
 ASSROOM 3315H (N/A 7:50am-3:20pm M-F - Use LibCal Sch)\n\n
URL;VALUE=URI:http://oprf.tandem.co/index.php?type=view&action=event&id=28
 2359
CREATED:20260422T180536Z
LAST-MODIFIED:20260422T191828Z
UID:event_request-282359-oprf@intand.com
END:VEVENT
END:VCALENDAR
