BEGIN:VCALENDAR
VERSION:2.0
PRODID:-//Intand Corporation//Tandem//EN
METHOD:PUBLISH
BEGIN:VEVENT
DTSTAMP:20260425T020939Z
DTSTART:20260427T201500Z
DTEND:20260427T211500Z
TRANSP:TRANSPARENT
PRIORITY:0
SUMMARY:French Club
LOCATION:RM 4183 (Contact K. Belpedio - Food Permitted)
DESCRIPTION:Cooking Ratatouille\n\n\nGroups:\nFRENCH DEPT/CLUB\n\nSchools:
 \nOAK PARK and RIVER FOREST\n\nLocation:\nRM 4183 (Contact K. Belpedio - F
 ood Permitted)\n\n
URL;VALUE=URI:http://oprf.tandem.co/index.php?type=view&action=event&id=28
 2311
CREATED:20260421T143036Z
LAST-MODIFIED:20260421T145840Z
UID:event_request-282311-oprf@intand.com
END:VEVENT
END:VCALENDAR
