BEGIN:VCALENDAR
VERSION:2.0
PRODID:-//Intand Corporation//Tandem//EN
METHOD:PUBLISH
BEGIN:VEVENT
DTSTAMP:20260425T020754Z
DTSTART:20260422T170000Z
DTEND:20260422T190000Z
TRANSP:TRANSPARENT
PRIORITY:0
SUMMARY:Secretaries & Admin. Assistants Day Luncheon
LOCATION:MEETING RM 2163 BOARD ROOM (Faculty and Staff Only - Food Permitt
 ed)
DESCRIPTION:Groups:\nEQUITY AND STUDENT SUCCESS\n\nSchools:\nOAK PARK and 
 RIVER FOREST\n\nLocation:\nMEETING RM 2163 BOARD ROOM (Faculty and Staff O
 nly - Food Permitted)\n\n
URL;VALUE=URI:http://oprf.tandem.co/index.php?type=view&action=event&id=28
 2280
CREATED:20260417T180247Z
LAST-MODIFIED:20260420T124024Z
UID:event_request-282280-oprf@intand.com
END:VEVENT
END:VCALENDAR
