BEGIN:VCALENDAR
VERSION:2.0
PRODID:-//Intand Corporation//Tandem//EN
METHOD:PUBLISH
BEGIN:VEVENT
DTSTAMP:20260425T020852Z
DTSTART:20260417T183200Z
DTEND:20260417T191900Z
TRANSP:TRANSPARENT
PRIORITY:0
SUMMARY:Math I Alternate Setting for Assessment
LOCATION:RM 2379
DESCRIPTION:Groups:\nMATH\n\nSchools:\nOAK PARK and RIVER FOREST\n\nLocati
 on:\nRM 2379\n\n
URL;VALUE=URI:http://oprf.tandem.co/index.php?type=view&action=event&id=28
 2238
CREATED:20260416T035910Z
LAST-MODIFIED:20260416T150917Z
UID:event_request-282238-oprf@intand.com
END:VEVENT
END:VCALENDAR
