BEGIN:VCALENDAR
VERSION:2.0
PRODID:-//Intand Corporation//Tandem//EN
METHOD:PUBLISH
BEGIN:VEVENT
DTSTAMP:20260425T020749Z
DTSTART:20260416T203000Z
DTEND:20260416T220000Z
TRANSP:TRANSPARENT
PRIORITY:0
SUMMARY:International Club Cooking Day
LOCATION:RM 4185 (Contact K. Belpedio - Food Permitted)
DESCRIPTION:Groups:\nFRENCH DEPT/CLUB\n\nSchools:\nOAK PARK and RIVER FORE
 ST\n\nLocation:\nRM 4185 (Contact K. Belpedio - Food Permitted)\n\n
URL;VALUE=URI:http://oprf.tandem.co/index.php?type=view&action=event&id=28
 2235
CREATED:20260415T232203Z
LAST-MODIFIED:20260416T130018Z
UID:event_request-282235-oprf@intand.com
END:VEVENT
END:VCALENDAR
