BEGIN:VCALENDAR
VERSION:2.0
PRODID:-//Intand Corporation//Tandem//EN
METHOD:PUBLISH
BEGIN:VEVENT
DTSTAMP:20260425T020828Z
DTSTART:20260418T130000Z
DTEND:20260418T150000Z
TRANSP:TRANSPARENT
PRIORITY:0
SUMMARY:Water Polo film
LOCATION:RM 3303
DESCRIPTION:Groups:\nATHLETICS\n\nSchools:\nOAK PARK and RIVER FOREST\n\nL
 ocation:\nRM 3303\n\n
URL;VALUE=URI:http://oprf.tandem.co/index.php?type=view&action=event&id=28
 2234
CREATED:20260415T194136Z
LAST-MODIFIED:20260415T205541Z
UID:event_request-282234-oprf@intand.com
END:VEVENT
END:VCALENDAR
