BEGIN:VCALENDAR
VERSION:2.0
PRODID:-//Intand Corporation//Tandem//EN
METHOD:PUBLISH
BEGIN:VEVENT
DTSTAMP:20260425T020840Z
DTSTART:20260417T140000Z
DTEND:20260417T170000Z
TRANSP:TRANSPARENT
PRIORITY:0
SUMMARY:LT # 4 Rehearsal
LOCATION:RM 4264
DESCRIPTION:Groups:\nDRAMA\n\nSchools:\nOAK PARK and RIVER FOREST\n\nLocat
 ion:\nRM 4264\n\n
URL;VALUE=URI:http://oprf.tandem.co/index.php?type=view&action=event&id=28
 2216
CREATED:20260414T142406Z
LAST-MODIFIED:20260414T155409Z
UID:event_request-282216-oprf@intand.com
END:VEVENT
END:VCALENDAR
