BEGIN:VCALENDAR
VERSION:2.0
PRODID:-//Intand Corporation//Tandem//EN
METHOD:PUBLISH
BEGIN:VEVENT
DTSTAMP:20260425T020842Z
DTSTART:20260409T120000Z
DTEND:20260409T130000Z
TRANSP:TRANSPARENT
PRIORITY:0
SUMMARY:Women in Leadership Posters
LOCATION:STUDENT CENTER/COMMONS \, RM 1332/STUDENT ACTIVITY CTR (Front Tab
 le Only)
DESCRIPTION: \n\n\n\nGroups:\nWOMEN IN LEADERSHIP\n\nSchools:\nOAK PARK an
 d RIVER FOREST\n\nLocations:\nSTUDENT CENTER/COMMONS \nRM 1332/STUDENT ACT
 IVITY CTR (Front Table Only)\n\n \n\n\n
X-ALT-DESC;FMTTYPE=text/html:<!doctype html><html><body><p> </p><br /><br 
 />Groups:<br />WOMEN IN LEADERSHIP<br /><br />Schools:<br />OAK PARK and R
 IVER FOREST<br /><br />Locations:<br />STUDENT CENTER/COMMONS <br />RM 133
 2/STUDENT ACTIVITY CTR (Front Table Only)<br /><br />Notes:<br /><p> </p><
 br /></body></html>
URL;VALUE=URI:http://oprf.tandem.co/index.php?type=view&action=event&id=28
 2174
CREATED:20260408T131742Z
LAST-MODIFIED:20260408T151121Z
UID:event_request-282174-oprf@intand.com
END:VEVENT
END:VCALENDAR
