BEGIN:VCALENDAR
VERSION:2.0
PRODID:-//Intand Corporation//Tandem//EN
METHOD:PUBLISH
BEGIN:VEVENT
DTSTAMP:20260425T020840Z
DTSTART:20260422T230000Z
DTEND:20260422T234000Z
TRANSP:TRANSPARENT
PRIORITY:0
SUMMARY:Student Council Meeting
LOCATION:CAFETERIA NORTH 1335
DESCRIPTION:Groups:\nSTUDENT COUNCIL\n\nSchools:\nOAK PARK and RIVER FORES
 T\n\nLocation:\nCAFETERIA NORTH 1335\n\n
URL;VALUE=URI:http://oprf.tandem.co/index.php?type=view&action=event&id=28
 2157
CREATED:20260407T170113Z
LAST-MODIFIED:20260407T181346Z
UID:event_request-282157-oprf@intand.com
END:VEVENT
END:VCALENDAR
